Workbook
Name test: #REF!
Name Titles: #REF!
Name Titles2: #REF!

Sheet 3d Graphic

Sheet Rest Positioning 1 
A1: Sample X Y Scatter Graph | G1: 3 Dimensional Graphics with X Y Scatter Bubble Graphs
R4: Horizontal | S4: Vertical | T4: Size
Q5: Issue | R5: Casual Rank | S5: Price | T5: Seating
P6: 1 | Q6: Steak Restaurant | R6: 7 | S6: 80 | T6: 80
P7: =+P6+1 -> 2
P8: =+P7+1 -> 3
P9: =+P8+1 -> 4 | Q9: Deli | R9: 2 | S9: 30 | T9: 20
P10: =+P9+1 -> 5
P11: =+P10+1 -> 6
P12: =+P11+1 -> 7
P13: =+P12+1 -> 8
P14: =+P13+1 -> 9
P15: =+P14+1 -> 10
P16: =+P15+1 -> 11
P17: =+P16+1 -> 12
P18: =+P17+1 -> 13
P19: =+P18+1 -> 14
P20: =+P19+1 -> 15

Sheet Rest Positioning 2
A1: Sample X Y Scatter Graph
R4: Horizontal | S4: Vertical | T4: Size
Q5: Issue | R5: Casual Rank | S5: Price | T5: Seating
P6: 1 | Q6: Steak Restaurant | R6: 7 | S6: 80 | T6: 80
P7: =+P6+1 -> 2
P8: =+P7+1 -> 3
P9: =+P8+1 -> 4 | Q9: Deli | R9: 2 | S9: 30 | T9: 20
P10: =+P9+1 -> 5
P11: =+P10+1 -> 6
P12: =+P11+1 -> 7
P13: =+P12+1 -> 8
P14: =+P13+1 -> 9
P15: =+P14+1 -> 10
P16: =+P15+1 -> 11
P17: =+P16+1 -> 12
P18: =+P17+1 -> 13
P19: =+P18+1 -> 14
P20: =+P19+1 -> 15
C37: Size of object = number of seats

Sheet Rest Positioning 3
A1: Sample X Y Scatter Graph
R4: Horizontal | S4: Vertical | T4: Size
Q5: Issue | R5: Casual | S5: Price | T5: Seating
P6: 1 | Q6: Steak Restaurant | R6: 7 | S6: 80 | T6: 100
P7: =+P6+1 -> 2 | Q7: Buffet Style | R7: 3 | S7: 50 | T7: 275
P8: =+P7+1 -> 3 | Q8: Sports Bar | R8: 4.25 | S8: 60 | T8: 70
P9: =+P8+1 -> 4 | Q9: Deli | R9: 2 | S9: 30 | T9: 60
P10: =+P9+1 -> 5 | Q10: New Restaurant | R10: 5.5 | S10: 70 | T10: 80
P11: =+P10+1 -> 6
P12: =+P11+1 -> 7
P13: =+P12+1 -> 8
P14: =+P13+1 -> 9
P15: =+P14+1 -> 10
P16: =+P15+1 -> 11
P17: =+P16+1 -> 12
P18: =+P17+1 -> 13
P19: =+P18+1 -> 14
P20: =+P19+1 -> 15
Q23: New Restaurant | R23: 5.5 | S23: 70 | T23: 80
C37: Size of object = number of seats

Sheet Rest Positioning 4
A1: Sample X Y Scatter Graph
R4: Horizontal | S4: Vertical | T4: Size
Q5: Issue | R5: Casual | S5: Price | T5: Seating
P6: 1 | Q6: Steak Restaurant | R6: 7 | S6: 80 | T6: 100
P7: =+P6+1 -> 2 | Q7: Buffet Style | R7: 3 | S7: 50 | T7: 275
P8: =+P7+1 -> 3 | Q8: Sports Bar | R8: 4.25 | S8: 60 | T8: 70
P9: =+P8+1 -> 4 | Q9: Deli | R9: 2 | S9: 30 | T9: 60
P10: =+P9+1 -> 5 | Q10: New Restaurant | R10: 5.5 | S10: 70 | T10: 200
P11: =+P10+1 -> 6
P12: =+P11+1 -> 7
P13: =+P12+1 -> 8
P14: =+P13+1 -> 9
P15: =+P14+1 -> 10
P16: =+P15+1 -> 11
P17: =+P16+1 -> 12
P18: =+P17+1 -> 13
P19: =+P18+1 -> 14
P20: =+P19+1 -> 15
C37: Size of object = number of seats

Sheet Rest Positioning 5
A1: Sample X Y Scatter Graph
R4: Horizontal | S4: Vertical | T4: Size
Q5: Issue | R5: Casual | S5: Price | T5: Seating
P6: 1 | Q6: Steak Restaurant | R6: 7 | S6: 80 | T6: 100
P7: =+P6+1 -> 2 | Q7: Buffet Style | R7: 3 | S7: 50 | T7: 275
P8: =+P7+1 -> 3 | Q8: Sports Bar | R8: 4.25 | S8: 60 | T8: 70
P9: =+P8+1 -> 4 | Q9: Deli | R9: 2 | S9: 30 | T9: 60
P10: =+P9+1 -> 5 | Q10: New Restaurant | R10: 5.5 | S10: 70 | T10: 200
P11: =+P10+1 -> 6
P12: =+P11+1 -> 7
P13: =+P12+1 -> 8
P14: =+P13+1 -> 9
P15: =+P14+1 -> 10
P16: =+P15+1 -> 11
P17: =+P16+1 -> 12
P18: =+P17+1 -> 13
P19: =+P18+1 -> 14
P20: =+P19+1 -> 15
C37: Size of object = number of seats

Sheet IT Sum 1
B1: BADM 750 Spring 2021 Information and Communications Technology in Organizations, Professor JT Stark
B2: Krist Walicky - Executive MBA
B4: AI in Casino Resort | D4: Scores are 1 (low) - 10 (high) | F4: IT Sample with AI Project Importance
B5: ROBOTICS & COGNITIVE AUTOMATION | C5: 1 | D5: Robot vacuums for cleaning large spaces overnight,
C6: =+C5+1 -> 2 | D6: Improved cleaning for covid, HVAC filtering, UV lights
C7: =+C6+1 -> 3 | D7: Drone survey use for physical spaces, data storage/retrieval
C8: =+C7+1 -> 4 | D8: Call Center data transfer
C9: =+C8+1 -> 5 | D9: Productivity scheduling based on prior events and weather
C10: =+C9+1 -> 6 | D10: Forecasting customer turnout
B11: COGNITIVE INSIGHT | C11: =+C10+1 -> 7 | D11: Promotional offerings
C12: =+C11+1 -> 8 | D12: Curb Cheating / Anti Money Laundering Efforts
C13: =+C12+1 -> 9 | D13: Strategic Dashboards of financials
C14: =+C13+1 -> 10 | D14: Operational performance forecasts
C15: =+C14+1 -> 11 | D15: Customer feedback and service level predictions
C16: =+C15+1 -> 12 | D16: Employee performance
B17: COGNITIVE ENGAGEMENT | C17: =+C16+1 -> 13 | D17: Customer Service website
C18: =+C17+1 -> 14 | D18: Call Center product/service recommendations
C19: =+C18+1 -> 15 | D19: Employee questions (Pay, Benefits, Policies)

Sheet IT Sum Table
B1: BADM 750 Spring 2021 Information and Communications Technology in Organizations, Professor JT Stark
B2: Krist Walicky
B4: AI in Casino Resort | D4: Scores are 1 (low) - 10 (high) | E4: Short Project | F4: Long Project | G4: Timeline | H4: Difficulty Technically | I4: Difficulty Organizationally | J4: Total Difficulty | K4: Cost | L4: Critical to Overall Strategy
B5: ROBOTICS & COGNITIVE AUTOMATION | C5: 1 | D5: Robot vacuums for cleaning large spaces overnight, | E5: 1 | G5: =MAX(E5:F5) -> 1 | H5: 2 | I5: 2 | J5: =AVERAGE(H5:I5) -> 2 | K5: 2 | L5: 2
C6: =+C5+1 -> 2 | D6: Improved cleaning for covid, HVAC filtering, UV lights | F6: 7 | G6: =MAX(E6:F6) -> 7 | H6: 3 | I6: 2.5 | J6: =AVERAGE(H6:I6) -> 2.75 | K6: 3 | L6: 5
C7: =+C6+1 -> 3 | D7: Drone survey use for physical spaces, data storage/retrieval | F7: 3 | G7: =MAX(E7:F7) -> 3 | H7: 2 | I7: 2 | J7: =AVERAGE(H7:I7) -> 2 | K7: 2 | L7: 1
C8: =+C7+1 -> 4 | D8: Call Center data transfer | E8: 3 | G8: =MAX(E8:F8) -> 3 | H8: 5 | I8: 3 | J8: =AVERAGE(H8:I8) -> 4 | K8: 3 | L8: 6
C9: =+C8+1 -> 5 | D9: Productivity scheduling based on prior events and weather | F9: 5 | G9: =MAX(E9:F9) -> 5 | H9: 6 | I9: 6 | J9: =AVERAGE(H9:I9) -> 6 | K9: 4 | L9: 5
C10: =+C9+1 -> 6 | D10: Forecasting customer turnout | F10: 5.5 | G10: =MAX(E10:F10) -> 5.5 | H10: 8 | I10: 8 | J10: =AVERAGE(H10:I10) -> 8 | K10: 6 | L10: 9
B11: COGNITIVE INSIGHT | C11: =+C10+1 -> 7 | D11: Promotional offerings | F11: 7.5 | G11: =MAX(E11:F11) -> 7.5 | H11: 5 | I11: 6 | J11: =AVERAGE(H11:I11) -> 5.5 | K11: 6 | L11: 8
C12: =+C11+1 -> 8 | D12: Curb Cheating / Anti Money Laundering Efforts | F12: 10 | G12: =MAX(E12:F12) -> 10 | H12: 9 | I12: 8 | J12: =AVERAGE(H12:I12) -> 8.5 | K12: 8 | L12: 9
C13: =+C12+1 -> 9 | D13: Strategic Dashboards of financials | F13: 10 | G13: =MAX(E13:F13) -> 10 | H13: 9 | I13: 5 | J13: =AVERAGE(H13:I13) -> 7 | K13: 8 | L13: 10
C14: =+C13+1 -> 10 | D14: Operational performance forecasts | E14: 6 | G14: =MAX(E14:F14) -> 6 | H14: 4 | I14: 4 | J14: =AVERAGE(H14:I14) -> 4 | K14: 4 | L14: 7
C15: =+C14+1 -> 11 | D15: Customer feedback and service level predictions | E15: 4 | G15: =MAX(E15:F15) -> 4 | H15: 5 | I15: 4 | J15: =AVERAGE(H15:I15) -> 4.5 | K15: 1 | L15: 7
C16: =+C15+1 -> 12 | D16: Employee performance | E16: 2 | G16: =MAX(E16:F16) -> 2 | H16: 2.5 | I16: 3 | J16: =AVERAGE(H16:I16) -> 2.75 | K16: 1 | L16: 4
B17: COGNITIVE ENGAGEMENT | C17: =+C16+1 -> 13 | D17: Customer Service website | F17: 8 | G17: =MAX(E17:F17) -> 8 | H17: 8 | I17: 6 | J17: =AVERAGE(H17:I17) -> 7 | K17: 9 | L17: 5
C18: =+C17+1 -> 14 | D18: Call Center product/service recommendations | E18: 3 | G18: =MAX(E18:F18) -> 3 | H18: 6 | I18: 8 | J18: =AVERAGE(H18:I18) -> 7 | K18: 5 | L18: 5
C19: =+C18+1 -> 15 | D19: Employee questions (Pay, Benefits, Policies) | E19: 5.5 | G19: =MAX(E19:F19) -> 5.5 | H19: 3 | I19: 3 | J19: =AVERAGE(H19:I19) -> 3 | K19: 2 | L19: 2

Sheet IT Decisions 1
B1: AI Case Study, Krist J. Walicky, EMBA Class 2021
B2: BADM 750 Spring 2021 Information and Communications Technology in Organizations, Professor JT Stark
V3: Size | W3: Critical
R4: Project List | T4: Timeline | U4: Difficulty | V4: Cost | W4: Project
Q5: Automation | R5: 1 | S5: Robot vacuums | T5: ='IT Sum Table'!J5 -> 2 | U5: 1 | V5: ='IT Sum Table'!K5 -> 2 | W5: ='IT Sum Table'!L5 -> 2
R6: =+R5+1 -> 2 | S6: Covid Cleaning | T6: ='IT Sum Table'!J6 -> 2.75 | U6: ='IT Sum Table'!G6 -> 7 | V6: ='IT Sum Table'!K6 -> 3 | W6: ='IT Sum Table'!L6 -> 5
R7: =+R6+1 -> 3
R8: =+R7+1 -> 4
R9: =+R8+1 -> 5 | S9: Productivity scheduling | T9: ='IT Sum Table'!J9 -> 6 | U9: ='IT Sum Table'!G9 -> 5 | V9: ='IT Sum Table'!K9 -> 4 | W9: ='IT Sum Table'!L9 -> 5
R10: =+R9+1 -> 6
Q11: Cognitive | R11: =+R10+1 -> 7
R12: =+R11+1 -> 8 | S12: Curb Cheating/Anti Money Laundering | T12: ='IT Sum Table'!J12 -> 8.5 | U12: ='IT Sum Table'!G12 -> 10 | V12: ='IT Sum Table'!K12 -> 8 | W12: ='IT Sum Table'!L12 -> 9
R13: =+R12+1 -> 9 | S13: Strategic Dashboards of financials | T13: ='IT Sum Table'!J13 -> 7 | U13: ='IT Sum Table'!G13 -> 10 | V13: ='IT Sum Table'!K13 -> 8 | W13: ='IT Sum Table'!L13 -> 10
R14: =+R13+1 -> 10
R15: =+R14+1 -> 11
R16: =+R15+1 -> 12
Q17: Engage | R17: =+R16+1 -> 13
R18: =+R17+1 -> 14
R19: =+R18+1 -> 15
S20: Data is input from the summary table tab
R22: 4D Graph Components
R23: 1 | S23: Difficulty (Y axis)
R24: 2 | S24: Project Timeline (X axis)
R25: 3 | S25: Cost (size of Bubble)
R26: 4 | S26: Critical Project (color) - formatted manually
C37: Legend
D38: Size of object = Cost | H38: Critical to Organization | K38: Low
H39: (Color Coded) | K39: Med
K40: High

Sheet IT Decisions 2
B1: AI Case Study, Krist J. Walicky, EMBA Class 2021 | S1: Total 4 Dimensions + Line totals to the 5th Dimension
B2: BADM 750 Spring 2021 Information and Communications Technology in Organizations, Professor JT Stark
V3: Size | W3: Critical
R4: Project List | T4: Timeline | U4: Difficulty | V4: Cost | W4: Project
Q5: Automation | R5: 1 | S5: Robot vacuums | T5: ='IT Sum Table'!J5 -> 2 | U5: ='IT Sum Table'!G5 -> 1 | V5: ='IT Sum Table'!K5 -> 2 | W5: ='IT Sum Table'!L5 -> 2
R6: =+R5+1 -> 2 | S6: Covid Cleaning | T6: ='IT Sum Table'!J6 -> 2.75 | U6: ='IT Sum Table'!G6 -> 7 | V6: ='IT Sum Table'!K6 -> 3 | W6: ='IT Sum Table'!L6 -> 5
R7: =+R6+1 -> 3 | S7: Drone Use | T7: ='IT Sum Table'!J7 -> 2 | U7: ='IT Sum Table'!G7 -> 3 | V7: ='IT Sum Table'!K7 -> 2 | W7: ='IT Sum Table'!L7 -> 1
R8: =+R7+1 -> 4 | S8: Call Center Data Transfer | T8: ='IT Sum Table'!J8 -> 4 | U8: ='IT Sum Table'!G8 -> 3 | V8: ='IT Sum Table'!K8 -> 3 | W8: ='IT Sum Table'!L8 -> 6
R9: =+R8+1 -> 5 | S9: Productivity scheduling | T9: ='IT Sum Table'!J9 -> 6 | U9: ='IT Sum Table'!G9 -> 5 | V9: ='IT Sum Table'!K9 -> 4 | W9: ='IT Sum Table'!L9 -> 5
R10: =+R9+1 -> 6 | S10: Forecasting customers | T10: ='IT Sum Table'!J10 -> 8 | U10: ='IT Sum Table'!G10 -> 5.5 | V10: ='IT Sum Table'!K10 -> 6 | W10: ='IT Sum Table'!L10 -> 9
Q11: Cognitive | R11: =+R10+1 -> 7 | S11: Promotional offerings | T11: ='IT Sum Table'!J11 -> 5.5 | U11: ='IT Sum Table'!G11 -> 7.5 | V11: ='IT Sum Table'!K11 -> 6 | W11: ='IT Sum Table'!L11 -> 8
R12: =+R11+1 -> 8 | S12: Curb Cheating/Anti Money Laundering | T12: ='IT Sum Table'!J12 -> 8.5 | U12: ='IT Sum Table'!G12 -> 10 | V12: ='IT Sum Table'!K12 -> 8 | W12: ='IT Sum Table'!L12 -> 9
R13: =+R12+1 -> 9 | S13: Strategic Dashboards of financials | T13: ='IT Sum Table'!J13 -> 7 | U13: ='IT Sum Table'!G13 -> 10 | V13: ='IT Sum Table'!K13 -> 8 | W13: ='IT Sum Table'!L13 -> 10
R14: =+R13+1 -> 10 | S14: Ops forecasts | T14: ='IT Sum Table'!J14 -> 4 | U14: ='IT Sum Table'!G14 -> 6 | V14: ='IT Sum Table'!K14 -> 4 | W14: ='IT Sum Table'!L14 -> 7
R15: =+R14+1 -> 11 | S15: Customer feedback | T15: ='IT Sum Table'!J15 -> 4.5 | U15: ='IT Sum Table'!G15 -> 4 | V15: ='IT Sum Table'!K15 -> 1 | W15: ='IT Sum Table'!L15 -> 7
R16: =+R15+1 -> 12 | S16: Employee performance | T16: ='IT Sum Table'!J16 -> 2.75 | U16: ='IT Sum Table'!G16 -> 2 | V16: ='IT Sum Table'!K16 -> 1 | W16: ='IT Sum Table'!L16 -> 4
Q17: Engage | R17: =+R16+1 -> 13 | S17: Customer Service website | T17: ='IT Sum Table'!J17 -> 7 | U17: ='IT Sum Table'!G17 -> 8 | V17: ='IT Sum Table'!K17 -> 9 | W17: ='IT Sum Table'!L17 -> 5
R18: =+R17+1 -> 14 | S18: Call Center productivity | T18: ='IT Sum Table'!J18 -> 7 | U18: ='IT Sum Table'!G18 -> 3 | V18: ='IT Sum Table'!K18 -> 5 | W18: ='IT Sum Table'!L18 -> 5
R19: =+R18+1 -> 15 | S19: Employee questions | T19: ='IT Sum Table'!J19 -> 3 | U19: ='IT Sum Table'!G19 -> 5.5 | V19: ='IT Sum Table'!K19 -> 2 | W19: ='IT Sum Table'!L19 -> 2
S20: Data is input from the summary table tab
R22: 4D Graph Components
R23: 1 | S23: Difficulty (Y axis)
R24: 2 | S24: Project Timeline (X axis)
R25: 3 | S25: Cost (size of Bubble)
R26: 4 | S26: Critical Project (color) - formatted manually
R28: X Y Scatter Bubble Graph
R29: Default 3 Dimensions or 3D
R30: Can use 4 Dimensions
R31: You can let the sunshine in on your analysis by using a 5th dimension
R32: Thank you for tuning in and I hope you try a X Y Scatter Bubble Graph to help you solve your next complex decision
C37: Legend
D38: Size of object = Cost | H38: Critical to Organization | K38: Low
H39: (Color Coded) | K39: Med
K40: High
